Package: multiHiCcompare Version: 1.26.0 Command: /home/biocbuild/R/R/bin/R CMD INSTALL multiHiCcompare StartedAt: 2025-10-13 20:46:52 -0000 (Mon, 13 Oct 2025) EndedAt: 2025-10-13 20:47:35 -0000 (Mon, 13 Oct 2025) EllapsedTime: 42.8 seconds RetCode: 0 Status: OK