Package: multiHiCcompare Version: 1.26.0 Command: /home/biocbuild/R/R/bin/R CMD check --install=check:multiHiCcompare.install-out.txt --library=/home/biocbuild/R/R/site-library --no-vignettes --timings multiHiCcompare_1.26.0.tar.gz StartedAt: 2025-10-14 11:48:22 -0000 (Tue, 14 Oct 2025) EndedAt: 2025-10-14 11:53:40 -0000 (Tue, 14 Oct 2025) EllapsedTime: 318.3 seconds RetCode: 0 Status: OK CheckDir: multiHiCcompare.Rcheck Warnings: 0