Package: multiGSEA Version: 1.18.0 Command: /home/biocbuild/R/R/bin/R CMD INSTALL multiGSEA StartedAt: 2025-10-13 20:43:59 -0000 (Mon, 13 Oct 2025) EndedAt: 2025-10-13 20:45:52 -0000 (Mon, 13 Oct 2025) EllapsedTime: 112.9 seconds RetCode: 0 Status: OK