Package: multiGSEA Version: 1.18.0 Command: /home/biocbuild/R/R/bin/R CMD build --keep-empty-dirs --no-resave-data multiGSEA StartedAt: 2025-10-14 02:55:40 -0000 (Tue, 14 Oct 2025) EndedAt: 2025-10-14 03:29:56 -0000 (Tue, 14 Oct 2025) EllapsedTime: 2055.9 seconds RetCode: 0 Status: OK PackageFile: multiGSEA_1.18.0.tar.gz PackageFileSize: 1018 KiB