Package: multiGSEA Version: 1.18.0 Command: rm -rf multiGSEA.buildbin-libdir && mkdir multiGSEA.buildbin-libdir && /Users/biocbuild/BBS/utils/build-universal.sh multiGSEA_1.18.0.tar.gz /Library/Frameworks/R.framework/Resources/bin/R multiGSEA.buildbin-libdir StartedAt: 2025-10-15 19:32:13 -0400 (Wed, 15 Oct 2025) EndedAt: 2025-10-15 19:34:03 -0400 (Wed, 15 Oct 2025) EllapsedTime: 110.4 seconds RetCode: 0 Status: OK PackageFile: multiGSEA_1.18.0.tgz PackageFileSize: 981.7 KiB