Package: multiClust Version: 1.38.0 Command: /home/biocbuild/bbs-3.21-bioc/R/bin/R CMD INSTALL multiClust StartedAt: 2025-10-15 15:08:06 -0400 (Wed, 15 Oct 2025) EndedAt: 2025-10-15 15:08:13 -0400 (Wed, 15 Oct 2025) EllapsedTime: 7.6 seconds RetCode: 0 Status: OK