Package: multiClust Version: 1.38.0 Command: /home/biocbuild/R/R/bin/R CMD build --keep-empty-dirs --no-resave-data multiClust StartedAt: 2025-10-14 02:55:23 -0000 (Tue, 14 Oct 2025) EndedAt: 2025-10-14 02:56:05 -0000 (Tue, 14 Oct 2025) EllapsedTime: 42.0 seconds RetCode: 0 Status: OK PackageFile: multiClust_1.38.0.tar.gz PackageFileSize: 3.035 MiB