Package: multiClust Version: 1.38.0 Command: /Library/Frameworks/R.framework/Resources/bin/R CMD INSTALL multiClust StartedAt: 2025-10-13 15:22:43 -0400 (Mon, 13 Oct 2025) EndedAt: 2025-10-13 15:22:54 -0400 (Mon, 13 Oct 2025) EllapsedTime: 10.6 seconds RetCode: 0 Status: OK