Package: msqrob2 Version: 1.16.0 Command: /home/biocbuild/R/R/bin/R CMD INSTALL msqrob2 StartedAt: 2025-10-13 20:50:45 -0000 (Mon, 13 Oct 2025) EndedAt: 2025-10-13 20:51:29 -0000 (Mon, 13 Oct 2025) EllapsedTime: 43.7 seconds RetCode: 0 Status: OK