Package: msqrob2 Version: 1.16.0 Command: /home/biocbuild/R/R/bin/R CMD build --keep-empty-dirs --no-resave-data msqrob2 StartedAt: 2025-10-14 02:52:29 -0000 (Tue, 14 Oct 2025) EndedAt: 2025-10-14 02:55:23 -0000 (Tue, 14 Oct 2025) EllapsedTime: 174.1 seconds RetCode: 0 Status: OK PackageFile: msqrob2_1.16.0.tar.gz PackageFileSize: 2.22 MiB