Package: msmsTests Version: 1.46.0 Command: /home/biocbuild/bbs-3.21-bioc/R/bin/R CMD INSTALL msmsTests StartedAt: 2025-10-15 15:37:21 -0400 (Wed, 15 Oct 2025) EndedAt: 2025-10-15 15:37:58 -0400 (Wed, 15 Oct 2025) EllapsedTime: 37.8 seconds RetCode: 0 Status: OK