Package: msmsTests Version: 1.46.0 Command: /Library/Frameworks/R.framework/Resources/bin/R CMD INSTALL msmsTests StartedAt: 2025-10-13 16:16:25 -0400 (Mon, 13 Oct 2025) EndedAt: 2025-10-13 16:17:45 -0400 (Mon, 13 Oct 2025) EllapsedTime: 79.9 seconds RetCode: 0 Status: OK