Package: msmsTests Version: 1.46.0 Command: /Library/Frameworks/R.framework/Resources/bin/R CMD INSTALL msmsTests StartedAt: 2025-10-13 17:06:19 -0400 (Mon, 13 Oct 2025) EndedAt: 2025-10-13 17:07:04 -0400 (Mon, 13 Oct 2025) EllapsedTime: 45.6 seconds RetCode: 0 Status: OK