Package: msmsTests Version: 1.46.0 Command: /Library/Frameworks/R.framework/Resources/bin/R CMD build --keep-empty-dirs --no-resave-data msmsTests StartedAt: 2025-10-14 05:08:40 -0400 (Tue, 14 Oct 2025) EndedAt: 2025-10-14 05:10:20 -0400 (Tue, 14 Oct 2025) EllapsedTime: 99.6 seconds RetCode: 0 Status: OK PackageFile: msmsTests_1.46.0.tar.gz PackageFileSize: 548.2 KiB