Package: msmsTests Version: 1.46.0 Command: rm -rf msmsTests.buildbin-libdir && mkdir msmsTests.buildbin-libdir && /Users/biocbuild/BBS/utils/build-universal.sh msmsTests_1.46.0.tar.gz /Library/Frameworks/R.framework/Resources/bin/R msmsTests.buildbin-libdir StartedAt: 2025-10-15 19:29:26 -0400 (Wed, 15 Oct 2025) EndedAt: 2025-10-15 19:30:17 -0400 (Wed, 15 Oct 2025) EllapsedTime: 51.0 seconds RetCode: 0 Status: OK PackageFile: msmsTests_1.46.0.tgz PackageFileSize: 583.3 KiB