Package: msmsEDA Version: 1.46.0 Command: /home/biocbuild/R/R/bin/R CMD INSTALL msmsEDA StartedAt: 2025-10-13 20:57:44 -0000 (Mon, 13 Oct 2025) EndedAt: 2025-10-13 20:58:38 -0000 (Mon, 13 Oct 2025) EllapsedTime: 54.3 seconds RetCode: 0 Status: OK