Package: msmsEDA Version: 1.46.0 Command: /Library/Frameworks/R.framework/Resources/bin/R CMD build --keep-empty-dirs --no-resave-data msmsEDA StartedAt: 2025-10-14 05:08:10 -0400 (Tue, 14 Oct 2025) EndedAt: 2025-10-14 05:09:20 -0400 (Tue, 14 Oct 2025) EllapsedTime: 69.5 seconds RetCode: 0 Status: OK PackageFile: msmsEDA_1.46.0.tar.gz PackageFileSize: 439.4 KiB