Package: msgbsR Version: 1.32.0 Command: /home/biocbuild/bbs-3.21-bioc/R/bin/R CMD INSTALL msgbsR StartedAt: 2025-10-15 15:50:23 -0400 (Wed, 15 Oct 2025) EndedAt: 2025-10-15 15:51:21 -0400 (Wed, 15 Oct 2025) EllapsedTime: 58.0 seconds RetCode: 0 Status: OK