Package: msgbsR Version: 1.32.0 Command: /home/biocbuild/bbs-3.21-bioc/R/bin/R CMD build --keep-empty-dirs --no-resave-data msgbsR StartedAt: 2025-10-15 18:42:54 -0400 (Wed, 15 Oct 2025) EndedAt: 2025-10-15 18:44:27 -0400 (Wed, 15 Oct 2025) EllapsedTime: 93.1 seconds RetCode: 0 Status: OK PackageFile: msgbsR_1.32.0.tar.gz PackageFileSize: 15.25 MiB