Package: msgbsR Version: 1.32.0 Command: /Library/Frameworks/R.framework/Resources/bin/R CMD INSTALL msgbsR StartedAt: 2025-10-13 16:34:05 -0400 (Mon, 13 Oct 2025) EndedAt: 2025-10-13 16:36:05 -0400 (Mon, 13 Oct 2025) EllapsedTime: 119.9 seconds RetCode: 0 Status: OK