Package: msgbsR Version: 1.32.0 Command: /home/biocbuild/R/R/bin/R CMD build --keep-empty-dirs --no-resave-data msgbsR StartedAt: 2025-10-14 02:49:32 -0000 (Tue, 14 Oct 2025) EndedAt: 2025-10-14 02:51:44 -0000 (Tue, 14 Oct 2025) EllapsedTime: 132.0 seconds RetCode: 0 Status: OK PackageFile: msgbsR_1.32.0.tar.gz PackageFileSize: 15.25 MiB