Package: msgbsR Version: 1.32.0 Command: /Library/Frameworks/R.framework/Resources/bin/R CMD build --keep-empty-dirs --no-resave-data msgbsR StartedAt: 2025-10-14 05:06:45 -0400 (Tue, 14 Oct 2025) EndedAt: 2025-10-14 05:08:46 -0400 (Tue, 14 Oct 2025) EllapsedTime: 120.5 seconds RetCode: 0 Status: OK PackageFile: msgbsR_1.32.0.tar.gz PackageFileSize: 15.25 MiB