Package: msgbsR Version: 1.32.0 Command: rm -rf msgbsR.buildbin-libdir && mkdir msgbsR.buildbin-libdir && /Users/biocbuild/BBS/utils/build-universal.sh msgbsR_1.32.0.tar.gz /Library/Frameworks/R.framework/Resources/bin/R msgbsR.buildbin-libdir StartedAt: 2025-10-15 19:29:04 -0400 (Wed, 15 Oct 2025) EndedAt: 2025-10-15 19:30:23 -0400 (Wed, 15 Oct 2025) EllapsedTime: 79.2 seconds RetCode: 0 Status: OK PackageFile: msgbsR_1.32.0.tgz PackageFileSize: 15.29 MiB