Package: motifTestR Version: 1.4.2 Command: /home/biocbuild/R/R/bin/R CMD INSTALL motifTestR StartedAt: 2025-10-13 20:37:12 -0000 (Mon, 13 Oct 2025) EndedAt: 2025-10-13 20:37:33 -0000 (Mon, 13 Oct 2025) EllapsedTime: 20.4 seconds RetCode: 0 Status: OK