Package: motifStack Version: 1.52.0 Command: /home/biocbuild/bbs-3.21-bioc/R/bin/R CMD INSTALL motifStack StartedAt: 2025-10-15 15:50:26 -0400 (Wed, 15 Oct 2025) EndedAt: 2025-10-15 15:51:14 -0400 (Wed, 15 Oct 2025) EllapsedTime: 47.4 seconds RetCode: 0 Status: OK