Package: motifStack Version: 1.52.0 Command: /Library/Frameworks/R.framework/Resources/bin/R CMD INSTALL motifStack StartedAt: 2025-10-13 16:33:35 -0400 (Mon, 13 Oct 2025) EndedAt: 2025-10-13 16:35:14 -0400 (Mon, 13 Oct 2025) EllapsedTime: 98.8 seconds RetCode: 0 Status: OK