Package: motifStack Version: 1.52.0 Command: /Library/Frameworks/R.framework/Resources/bin/R CMD build --keep-empty-dirs --no-resave-data motifStack StartedAt: 2025-10-13 20:49:41 -0400 (Mon, 13 Oct 2025) EndedAt: 2025-10-13 20:54:50 -0400 (Mon, 13 Oct 2025) EllapsedTime: 308.9 seconds RetCode: 0 Status: OK PackageFile: motifStack_1.52.0.tar.gz PackageFileSize: 3.936 MiB