Package: motifStack Version: 1.52.0 Command: rm -rf motifStack.buildbin-libdir && mkdir motifStack.buildbin-libdir && /Users/biocbuild/BBS/utils/build-universal.sh motifStack_1.52.0.tar.gz /Library/Frameworks/R.framework/Resources/bin/R motifStack.buildbin-libdir StartedAt: 2025-10-14 14:08:55 -0400 (Tue, 14 Oct 2025) EndedAt: 2025-10-14 14:11:36 -0400 (Tue, 14 Oct 2025) EllapsedTime: 161.1 seconds RetCode: 0 Status: OK PackageFile: motifStack_1.52.0.tgz PackageFileSize: 4.815 MiB