Package: motifStack Version: 1.52.0 Command: /home/biocbuild/R/R/bin/R CMD INSTALL motifStack StartedAt: 2025-10-13 21:09:10 -0000 (Mon, 13 Oct 2025) EndedAt: 2025-10-13 21:10:17 -0000 (Mon, 13 Oct 2025) EllapsedTime: 67.1 seconds RetCode: 0 Status: OK