Package: motifStack Version: 1.52.0 Command: /Library/Frameworks/R.framework/Resources/bin/R CMD INSTALL motifStack StartedAt: 2025-10-13 18:02:35 -0400 (Mon, 13 Oct 2025) EndedAt: 2025-10-13 18:03:30 -0400 (Mon, 13 Oct 2025) EllapsedTime: 55.3 seconds RetCode: 0 Status: OK