Package: motifStack Version: 1.52.0 Command: rm -rf motifStack.buildbin-libdir && mkdir motifStack.buildbin-libdir && /Users/biocbuild/BBS/utils/build-universal.sh motifStack_1.52.0.tar.gz /Library/Frameworks/R.framework/Resources/bin/R motifStack.buildbin-libdir StartedAt: 2025-10-15 19:27:06 -0400 (Wed, 15 Oct 2025) EndedAt: 2025-10-15 19:28:08 -0400 (Wed, 15 Oct 2025) EllapsedTime: 62.8 seconds RetCode: 0 Status: OK PackageFile: motifStack_1.52.0.tgz PackageFileSize: 4.601 MiB