Package: monocle Version: 2.36.0 Command: /home/biocbuild/R/R/bin/R CMD build --keep-empty-dirs --no-resave-data monocle StartedAt: 2025-10-14 02:40:28 -0000 (Tue, 14 Oct 2025) EndedAt: 2025-10-14 02:41:08 -0000 (Tue, 14 Oct 2025) EllapsedTime: 40.0 seconds RetCode: 0 Status: OK PackageFile: monocle_2.36.0.tar.gz PackageFileSize: 8.984 MiB