Package: mirIntegrator Version: 1.38.0 Command: /home/biocbuild/bbs-3.21-bioc/R/bin/R CMD build --keep-empty-dirs --no-resave-data mirIntegrator StartedAt: 2025-10-15 18:33:39 -0400 (Wed, 15 Oct 2025) EndedAt: 2025-10-15 18:34:41 -0400 (Wed, 15 Oct 2025) EllapsedTime: 62.1 seconds RetCode: 0 Status: OK PackageFile: mirIntegrator_1.38.0.tar.gz PackageFileSize: 1.808 MiB