Package: mirIntegrator Version: 1.38.0 Command: /home/biocbuild/R/R/bin/R CMD INSTALL mirIntegrator StartedAt: 2025-10-13 20:40:53 -0000 (Mon, 13 Oct 2025) EndedAt: 2025-10-13 20:41:20 -0000 (Mon, 13 Oct 2025) EllapsedTime: 26.4 seconds RetCode: 0 Status: OK