Package: mirIntegrator Version: 1.38.0 Command: /home/biocbuild/R/R/bin/R CMD build --keep-empty-dirs --no-resave-data mirIntegrator StartedAt: 2025-10-14 02:31:39 -0000 (Tue, 14 Oct 2025) EndedAt: 2025-10-14 02:33:14 -0000 (Tue, 14 Oct 2025) EllapsedTime: 95.0 seconds RetCode: 0 Status: OK PackageFile: mirIntegrator_1.38.0.tar.gz PackageFileSize: 1.799 MiB