Package: minet Version: 3.66.0 Command: /home/biocbuild/R/R/bin/R CMD build --keep-empty-dirs --no-resave-data minet StartedAt: 2025-10-14 02:29:39 -0000 (Tue, 14 Oct 2025) EndedAt: 2025-10-14 02:29:40 -0000 (Tue, 14 Oct 2025) EllapsedTime: 1.0 seconds RetCode: 0 Status: OK PackageFile: minet_3.66.0.tar.gz PackageFileSize: 50.13 KiB