Package: mimager Version: 1.32.0 Command: /home/biocbuild/R/R/bin/R CMD build --keep-empty-dirs --no-resave-data mimager StartedAt: 2025-10-14 02:28:56 -0000 (Tue, 14 Oct 2025) EndedAt: 2025-10-14 02:30:14 -0000 (Tue, 14 Oct 2025) EllapsedTime: 78.0 seconds RetCode: 0 Status: OK PackageFile: mimager_1.32.0.tar.gz PackageFileSize: 676.8 KiB