Package: miloR Version: 2.4.1 Command: /home/biocbuild/R/R/bin/R CMD INSTALL miloR StartedAt: 2025-10-13 21:13:21 -0000 (Mon, 13 Oct 2025) EndedAt: 2025-10-13 21:16:52 -0000 (Mon, 13 Oct 2025) EllapsedTime: 210.4 seconds RetCode: 0 Status: OK