Package: miloR Version: 2.4.1 Command: /home/biocbuild/R/R/bin/R CMD build --keep-empty-dirs --no-resave-data miloR StartedAt: 2025-10-14 02:28:49 -0000 (Tue, 14 Oct 2025) EndedAt: 2025-10-14 03:06:18 -0000 (Tue, 14 Oct 2025) EllapsedTime: 2249.2 seconds RetCode: 1 Status: ERROR PackageFile: None PackageFileSize: NA