Package: midasHLA Version: 1.16.0 Command: /home/biocbuild/R/R/bin/R CMD INSTALL midasHLA StartedAt: 2025-10-13 20:34:55 -0000 (Mon, 13 Oct 2025) EndedAt: 2025-10-13 20:35:41 -0000 (Mon, 13 Oct 2025) EllapsedTime: 45.6 seconds RetCode: 0 Status: OK