Package: midasHLA Version: 1.16.0 Command: /home/biocbuild/R/R/bin/R CMD build --keep-empty-dirs --no-resave-data midasHLA StartedAt: 2025-10-14 02:28:42 -0000 (Tue, 14 Oct 2025) EndedAt: 2025-10-14 02:31:41 -0000 (Tue, 14 Oct 2025) EllapsedTime: 179.0 seconds RetCode: 0 Status: OK PackageFile: midasHLA_1.16.0.tar.gz PackageFileSize: 1.891 MiB