Package: microbiomeExplorer Version: 1.18.0 Command: /home/biocbuild/bbs-3.21-bioc/R/bin/R CMD build --keep-empty-dirs --no-resave-data microbiomeExplorer StartedAt: 2025-10-15 18:30:59 -0400 (Wed, 15 Oct 2025) EndedAt: 2025-10-15 18:31:36 -0400 (Wed, 15 Oct 2025) EllapsedTime: 37.0 seconds RetCode: 0 Status: OK PackageFile: microbiomeExplorer_1.18.0.tar.gz PackageFileSize: 2.976 MiB