Package: microbiomeDASim Version: 1.22.0 Command: /home/biocbuild/bbs-3.21-bioc/R/bin/R CMD build --keep-empty-dirs --no-resave-data microbiomeDASim StartedAt: 2025-10-15 18:30:37 -0400 (Wed, 15 Oct 2025) EndedAt: 2025-10-15 18:31:21 -0400 (Wed, 15 Oct 2025) EllapsedTime: 44.0 seconds RetCode: 0 Status: OK PackageFile: microbiomeDASim_1.22.0.tar.gz PackageFileSize: 1.498 MiB