Package: microbiomeDASim Version: 1.22.0 Command: /home/biocbuild/R/R/bin/R CMD INSTALL microbiomeDASim StartedAt: 2025-10-13 20:30:32 -0000 (Mon, 13 Oct 2025) EndedAt: 2025-10-13 20:31:01 -0000 (Mon, 13 Oct 2025) EllapsedTime: 28.4 seconds RetCode: 0 Status: OK