Package: microbiomeDASim Version: 1.22.0 Command: /Library/Frameworks/R.framework/Resources/bin/R CMD build --keep-empty-dirs --no-resave-data microbiomeDASim StartedAt: 2025-10-14 04:20:20 -0400 (Tue, 14 Oct 2025) EndedAt: 2025-10-14 04:21:22 -0400 (Tue, 14 Oct 2025) EllapsedTime: 62.4 seconds RetCode: 0 Status: OK PackageFile: microbiomeDASim_1.22.0.tar.gz PackageFileSize: 1.498 MiB