Package: microbiomeDASim Version: 1.22.0 Command: rm -rf microbiomeDASim.buildbin-libdir && mkdir microbiomeDASim.buildbin-libdir && /Users/biocbuild/BBS/utils/build-universal.sh microbiomeDASim_1.22.0.tar.gz /Library/Frameworks/R.framework/Resources/bin/R microbiomeDASim.buildbin-libdir StartedAt: 2025-10-15 19:19:16 -0400 (Wed, 15 Oct 2025) EndedAt: 2025-10-15 19:19:43 -0400 (Wed, 15 Oct 2025) EllapsedTime: 27.2 seconds RetCode: 0 Status: OK PackageFile: microbiomeDASim_1.22.0.tgz PackageFileSize: 1.57 MiB