Package: microSTASIS Version: 1.8.0 Command: /home/biocbuild/R/R/bin/R CMD build --keep-empty-dirs --no-resave-data microSTASIS StartedAt: 2025-10-14 02:28:38 -0000 (Tue, 14 Oct 2025) EndedAt: 2025-10-14 02:30:19 -0000 (Tue, 14 Oct 2025) EllapsedTime: 101.0 seconds RetCode: 0 Status: OK PackageFile: microSTASIS_1.8.0.tar.gz PackageFileSize: 1.221 MiB