Package: microSTASIS Version: 1.8.0 Command: /Library/Frameworks/R.framework/Resources/bin/R CMD build --keep-empty-dirs --no-resave-data microSTASIS StartedAt: 2025-10-14 04:21:22 -0400 (Tue, 14 Oct 2025) EndedAt: 2025-10-14 04:23:24 -0400 (Tue, 14 Oct 2025) EllapsedTime: 121.1 seconds RetCode: 0 Status: OK PackageFile: microSTASIS_1.8.0.tar.gz PackageFileSize: 1.417 MiB