Package: microSTASIS Version: 1.8.0 Command: rm -rf microSTASIS.buildbin-libdir && mkdir microSTASIS.buildbin-libdir && /Users/biocbuild/BBS/utils/build-universal.sh microSTASIS_1.8.0.tar.gz /Library/Frameworks/R.framework/Resources/bin/R microSTASIS.buildbin-libdir StartedAt: 2025-10-15 19:19:39 -0400 (Wed, 15 Oct 2025) EndedAt: 2025-10-15 19:19:43 -0400 (Wed, 15 Oct 2025) EllapsedTime: 4.5 seconds RetCode: 0 Status: OK PackageFile: microSTASIS_1.8.0.tgz PackageFileSize: 1.459 MiB