Package: microRNA Version: 1.66.0 Command: /home/biocbuild/R/R/bin/R CMD INSTALL microRNA StartedAt: 2025-10-13 20:27:46 -0000 (Mon, 13 Oct 2025) EndedAt: 2025-10-13 20:28:01 -0000 (Mon, 13 Oct 2025) EllapsedTime: 14.4 seconds RetCode: 0 Status: OK